BEGIN:VCALENDAR
VERSION:2.0
PRODID:-//CERN//INDICO//EN
BEGIN:VEVENT
SUMMARY:Group meeting
DTSTART:20260421T080000Z
DTEND:20260421T090000Z
DTSTAMP:20260424T121400Z
UID:indico-event-39714@indico.in2p3.fr
DESCRIPTION:https://indico.in2p3.fr/event/39714/
URL:https://indico.in2p3.fr/event/39714/
END:VEVENT
END:VCALENDAR
