BEGIN:VCALENDAR
VERSION:2.0
PRODID:-//CERN//INDICO//EN
BEGIN:VEVENT
SUMMARY:Commissioning du plan focal
DTSTART:20260430T080000Z
DTEND:20260430T090000Z
DTSTAMP:20260424T044500Z
UID:indico-event-39707@indico.in2p3.fr
DESCRIPTION:https://indico.in2p3.fr/event/39707/
URL:https://indico.in2p3.fr/event/39707/
END:VEVENT
END:VCALENDAR
