BEGIN:VCALENDAR
VERSION:2.0
PRODID:-//CERN//INDICO//EN
BEGIN:VEVENT
SUMMARY:Reunion FCC-contacts
DTSTART:20260410T070000Z
DTEND:20260410T083500Z
DTSTAMP:20260420T112100Z
UID:indico-event-39581@indico.in2p3.fr
DESCRIPTION:https://indico.in2p3.fr/event/39581/
URL:https://indico.in2p3.fr/event/39581/
END:VEVENT
END:VCALENDAR
