BEGIN:VCALENDAR
VERSION:2.0
PRODID:-//CERN//INDICO//EN
BEGIN:VEVENT
SUMMARY:DMLab@Paris
DTSTART:20261021T070000Z
DTEND:20261022T100000Z
DTSTAMP:20260422T194800Z
UID:indico-event-39579@indico.in2p3.fr
DESCRIPTION:Dark matter is one of the great puzzles of nature: according t
 o current estimates\, more than 85% of the matter in the universe is in th
 e form of dark (only gravitating) matter\, of which today we know nothing.
  Any discovery of new physics will be related directly or indirectly to da
 rk matter: by discovering a dark matter particle or by measuring fundament
 al properties in models providing a dark matter candidate. Dark matter is 
 also likely related to gravitational waves and multi-messenger astropartic
 le physics.\nThe International Research Laboratory (IRL) DMLab between the
  CNRS/IN2P3 and the Helmholtz association represented by its centers DESY\
 , KIT and GSI\, focusses on the theme of dark matter.  \nTo address vari
 ous challenges in dark matter physics the IRL is structured in six topics:
  direct dark matter searches\, multi-messenger particle physics and gravit
 ational waves\, novel accelerator concepts\, computing and data science\, 
 particle detector technologies\, and theoretical physics.\nDuring the meet
 ing we aim to discuss the ongoing projects as well as new ideas. \nHotel 
 accommodation: \n\nMany hotels are available in Paris\, if you would like
  to stay close\, you can try Booking\n\nPublic Transportation in Paris:\n\
 nTransportation tickets can be bought with several Apps: Bonjour RATP\nGen
 eral information like maps\, ticket prices etc: RATP or Ilde France Mobili
 tes \n\nJussieu:\n\nBus lines:  67 et 89\n Métro Lines: 7 et 10.\nAt t
 he main entrance you only have to open your bags for a security check\, no
  identity check\n\nAUDITORIUM:\n\nAuditorium Charpak\nGo to tower 22 (see 
 also map below)\, go down the stairs and follow the signs\n\n \n\nLunches
  (paid centrally): The Ardoise on the Jussieu Campus (tower 26\, "Lunch" 
 on the above map). \nDinner (paid centrally): TBD\nHelp: if you need any 
 help\, please contact one of the following: Luca Scotto Lavina (+33 (0)6 4
 7 30 31 69)\, Yajing Xing (+33 (0)7 58 45 52 03)\nParticipation in the mee
 ting: please register\, the ZOOM link will be accessible only if you have 
 an indico account\, logged in  and registered to the meeting. For those w
 ithout indico account the link will be sent by mail about 30 minutes befor
 e the meeting starts.\n\nhttps://indico.in2p3.fr/event/39579/
LOCATION:Amphitheatre Charpak (LPNHE Paris)
URL:https://indico.in2p3.fr/event/39579/
END:VEVENT
END:VCALENDAR
