BEGIN:VCALENDAR
VERSION:2.0
PRODID:-//CERN//INDICO//EN
BEGIN:VEVENT
SUMMARY:SVOM ECLGRM-VHF IS training session
DTSTART:20260512T070000Z
DTEND:20260513T160000Z
DTSTAMP:20260422T043200Z
UID:indico-event-39551@indico.in2p3.fr
DESCRIPTION:https://indico.in2p3.fr/event/39551/
LOCATION:IAP (amphithéâtre)
URL:https://indico.in2p3.fr/event/39551/
END:VEVENT
END:VCALENDAR
