BEGIN:VCALENDAR
VERSION:2.0
PRODID:-//CERN//INDICO//EN
BEGIN:VEVENT
SUMMARY:33nd EEB Meeting - 8 April 2026
DTSTART:20260408T080000Z
DTEND:20260408T100000Z
DTSTAMP:20260421T011700Z
UID:indico-event-39550@indico.in2p3.fr
DESCRIPTION:Speakers: Alberto Iess (LAPP CNRS)\n\nThe 33nd ESCAPE Executiv
 e Board meeting will take place on the 8th of April 2026\, from 10:00h to
  12:00h CET.\nVisio Meeting details:\nTo join the video conference\, click
  on this link: https://visio.numerique.gouv.fr/yvf-cixa-ilnTo join by phon
 e\, dial +33 9 79 94 06 78 and enter this code: 900 702 6203#\n\n \n\nPre
 sentation Template available at sDrive:\nhttps://sdrive.cnrs.fr/s/oLPJokpf
 rBRrFJ2\n \n\nhttps://indico.in2p3.fr/event/39550/
LOCATION:ZOOM
URL:https://indico.in2p3.fr/event/39550/
END:VEVENT
END:VCALENDAR
