BEGIN:VCALENDAR
VERSION:2.0
PRODID:-//CERN//INDICO//EN
BEGIN:VEVENT
SUMMARY:Journal Club
DTSTART:20260428T090000Z
DTEND:20260428T100000Z
DTSTAMP:20260424T121400Z
UID:indico-event-38467@indico.in2p3.fr
DESCRIPTION:see https://sdrive.cnrs.fr/s/NJmNfMtzFBfCkQy\n\nhttps://indico
 .in2p3.fr/event/38467/
URL:https://indico.in2p3.fr/event/38467/
END:VEVENT
END:VCALENDAR
