BEGIN:VCALENDAR
VERSION:2.0
PRODID:-//CERN//INDICO//EN
BEGIN:VEVENT
SUMMARY:Reunion FCC-contacts
DTSTART:20260529T070000Z
DTEND:20260529T083000Z
DTSTAMP:20260420T112100Z
UID:indico-event-38401@indico.in2p3.fr
DESCRIPTION:https://indico.in2p3.fr/event/38401/
URL:https://indico.in2p3.fr/event/38401/
END:VEVENT
END:VCALENDAR
